BEGIN:VCALENDAR
VERSION:2.0
PRODID:-//Royal Berkshire Fire and Rescue Service - ECPv6.15.18//NONSGML v1.0//EN
CALSCALE:GREGORIAN
METHOD:PUBLISH
X-WR-CALNAME:Royal Berkshire Fire and Rescue Service
X-ORIGINAL-URL:https://www.rbfrs.co.uk
X-WR-CALDESC:Events for Royal Berkshire Fire and Rescue Service
REFRESH-INTERVAL;VALUE=DURATION:PT1H
X-Robots-Tag:noindex
X-PUBLISHED-TTL:PT1H
BEGIN:VTIMEZONE
TZID:Europe/London
BEGIN:DAYLIGHT
TZOFFSETFROM:+0000
TZOFFSETTO:+0100
TZNAME:BST
DTSTART:20240331T010000
END:DAYLIGHT
BEGIN:STANDARD
TZOFFSETFROM:+0100
TZOFFSETTO:+0000
TZNAME:GMT
DTSTART:20241027T010000
END:STANDARD
BEGIN:DAYLIGHT
TZOFFSETFROM:+0000
TZOFFSETTO:+0100
TZNAME:BST
DTSTART:20250330T010000
END:DAYLIGHT
BEGIN:STANDARD
TZOFFSETFROM:+0100
TZOFFSETTO:+0000
TZNAME:GMT
DTSTART:20251026T010000
END:STANDARD
BEGIN:DAYLIGHT
TZOFFSETFROM:+0000
TZOFFSETTO:+0100
TZNAME:BST
DTSTART:20260329T010000
END:DAYLIGHT
BEGIN:STANDARD
TZOFFSETFROM:+0100
TZOFFSETTO:+0000
TZNAME:GMT
DTSTART:20261025T010000
END:STANDARD
END:VTIMEZONE
BEGIN:VEVENT
DTSTART;TZID=Europe/London:20250315T100000
DTEND;TZID=Europe/London:20250315T120000
DTSTAMP:20260421T091103
CREATED:20241230T140023Z
LAST-MODIFIED:20241230T140033Z
UID:10000257-1742032800-1742040000@www.rbfrs.co.uk
SUMMARY:Have a Go Day
DESCRIPTION:Our Discover a Career as a Firefighter sessions are there to help potential applicants find out more about being a Firefighter in Berkshire.  \n\n\n\nThe sessions provide an ideal opportunity to come along to find out more about the role\, the application process and what life at a fire station is like.  \n\n\n\nIf you don’t know much about the fire and rescue service at the moment – don’t worry! These sessions have been designed to give anyone a flavour of the role – whether you’ve thought about it before or not.  \n\n\n\nAll sessions are free to attend.  \n\n\n\nHave a Go Days: This is an opportunity to try some of the physical tests that you’ll need to pass to become a Firefighter.
URL:https://www.rbfrs.co.uk/community-events-and-meeting-rooms/have-a-go-day-3/
LOCATION:Bracknell Fire Station\, Bracknell Fire Station\, Bracknell\, Berkshire\, RG12 7AA\, United Kingdom
ATTACH;FMTTYPE=image/jpeg:https://www.rbfrs.co.uk/app/uploads/2024/08/siren-banner-RBFRS-Graduation-047-scaled.jpg
GEO:51.4120342;-0.7570706
X-APPLE-STRUCTURED-LOCATION;VALUE=URI;X-ADDRESS=Bracknell Fire Station Bracknell Fire Station Bracknell Berkshire RG12 7AA United Kingdom;X-APPLE-RADIUS=500;X-TITLE=Bracknell Fire Station:geo:-0.7570706,51.4120342
END:VEVENT
END:VCALENDAR