BEGIN:VCALENDAR
VERSION:2.0
PRODID:-//Royal Berkshire Fire and Rescue Service - ECPv6.15.18//NONSGML v1.0//EN
CALSCALE:GREGORIAN
METHOD:PUBLISH
X-WR-CALNAME:Royal Berkshire Fire and Rescue Service
X-ORIGINAL-URL:https://www.rbfrs.co.uk
X-WR-CALDESC:Events for Royal Berkshire Fire and Rescue Service
REFRESH-INTERVAL;VALUE=DURATION:PT1H
X-Robots-Tag:noindex
X-PUBLISHED-TTL:PT1H
BEGIN:VTIMEZONE
TZID:Europe/London
BEGIN:DAYLIGHT
TZOFFSETFROM:+0000
TZOFFSETTO:+0100
TZNAME:BST
DTSTART:20240331T010000
END:DAYLIGHT
BEGIN:STANDARD
TZOFFSETFROM:+0100
TZOFFSETTO:+0000
TZNAME:GMT
DTSTART:20241027T010000
END:STANDARD
BEGIN:DAYLIGHT
TZOFFSETFROM:+0000
TZOFFSETTO:+0100
TZNAME:BST
DTSTART:20250330T010000
END:DAYLIGHT
BEGIN:STANDARD
TZOFFSETFROM:+0100
TZOFFSETTO:+0000
TZNAME:GMT
DTSTART:20251026T010000
END:STANDARD
BEGIN:DAYLIGHT
TZOFFSETFROM:+0000
TZOFFSETTO:+0100
TZNAME:BST
DTSTART:20260329T010000
END:DAYLIGHT
BEGIN:STANDARD
TZOFFSETFROM:+0100
TZOFFSETTO:+0000
TZNAME:GMT
DTSTART:20261025T010000
END:STANDARD
END:VTIMEZONE
BEGIN:VEVENT
DTSTART;TZID=Europe/London:20250316T110000
DTEND;TZID=Europe/London:20250316T150000
DTSTAMP:20260421T091103
CREATED:20250310T101236Z
LAST-MODIFIED:20250310T101240Z
UID:10000269-1742122800-1742137200@www.rbfrs.co.uk
SUMMARY:Charity Car Wash
DESCRIPTION:On Sunday\, 16 March at Wokingham Fire Station\, firefighters will be grabbing sponges and hoses to host a charity car wash! \n\n\n\nVisit the Station between 11am and 3pm to have your car cleaned and to donate to the Fire Fighters Charity. \n\n\n\nThe suggested minimum donation is £5 per car\, with all contributions going towards The Fire Fighters Charity – a deserving cause that provides a variety of services and specialist support for fire service staff and their families.
URL:https://www.rbfrs.co.uk/community-events-and-meeting-rooms/charity-car-wash-8/
LOCATION:Wokingham Fire Station\, 13 Easthampstead Rd\, Wokingham\, RG40 2EH\, United Kingdom
ATTACH;FMTTYPE=image/jpeg:https://www.rbfrs.co.uk/app/uploads/2025/02/car-wash-scaled.jpg
GEO:51.4105062;-0.8297924
X-APPLE-STRUCTURED-LOCATION;VALUE=URI;X-ADDRESS=Wokingham Fire Station 13 Easthampstead Rd Wokingham RG40 2EH United Kingdom;X-APPLE-RADIUS=500;X-TITLE=13 Easthampstead Rd:geo:-0.8297924,51.4105062
END:VEVENT
END:VCALENDAR