BEGIN:VCALENDAR
VERSION:2.0
PRODID:-//Royal Berkshire Fire and Rescue Service - ECPv6.15.18//NONSGML v1.0//EN
CALSCALE:GREGORIAN
METHOD:PUBLISH
X-ORIGINAL-URL:https://www.rbfrs.co.uk
X-WR-CALDESC:Events for Royal Berkshire Fire and Rescue Service
REFRESH-INTERVAL;VALUE=DURATION:PT1H
X-Robots-Tag:noindex
X-PUBLISHED-TTL:PT1H
BEGIN:VTIMEZONE
TZID:Europe/London
BEGIN:DAYLIGHT
TZOFFSETFROM:+0000
TZOFFSETTO:+0100
TZNAME:BST
DTSTART:20240331T010000
END:DAYLIGHT
BEGIN:STANDARD
TZOFFSETFROM:+0100
TZOFFSETTO:+0000
TZNAME:GMT
DTSTART:20241027T010000
END:STANDARD
BEGIN:DAYLIGHT
TZOFFSETFROM:+0000
TZOFFSETTO:+0100
TZNAME:BST
DTSTART:20250330T010000
END:DAYLIGHT
BEGIN:STANDARD
TZOFFSETFROM:+0100
TZOFFSETTO:+0000
TZNAME:GMT
DTSTART:20251026T010000
END:STANDARD
BEGIN:DAYLIGHT
TZOFFSETFROM:+0000
TZOFFSETTO:+0100
TZNAME:BST
DTSTART:20260329T010000
END:DAYLIGHT
BEGIN:STANDARD
TZOFFSETFROM:+0100
TZOFFSETTO:+0000
TZNAME:GMT
DTSTART:20261025T010000
END:STANDARD
END:VTIMEZONE
BEGIN:VEVENT
DTSTART;TZID=Europe/London:20250405T130000
DTEND;TZID=Europe/London:20250405T173000
DTSTAMP:20260421T073328
CREATED:20250326T165352Z
LAST-MODIFIED:20250326T165354Z
UID:10000272-1743858000-1743874200@www.rbfrs.co.uk
SUMMARY:Windsor Grand Community Celebration Fitness Test
DESCRIPTION:Come and say hello to our Red Watch crews from Maidenhead and Windsor fire stations on Saturday at Windsor Leisure Centre for a free Fitness Test.  \n\n\n\nAre you up for the challenge? This fitness test is used by the Service and is designed to push your limits by testing your strength and endurance. \n\n\n\nOver 18s only. All fitness levels are welcome to take part\, whether you’re aiming to improve your fitness or simply looking for a fun\, casual challenge! \n\n\n\nFor more information visit: https://ow.ly/YgHX50Vgynu.
URL:https://www.rbfrs.co.uk/community-events-and-meeting-rooms/windsor-grand-community-celebration-fitness-test/
LOCATION:Windsor Leisure Centre\, Clewer Mead\, Windsor\, SL4 5JB\, United Kingdom
END:VEVENT
END:VCALENDAR