BEGIN:VCALENDAR
VERSION:2.0
PRODID:-//Royal Berkshire Fire and Rescue Service - ECPv6.15.18//NONSGML v1.0//EN
CALSCALE:GREGORIAN
METHOD:PUBLISH
X-WR-CALNAME:Royal Berkshire Fire and Rescue Service
X-ORIGINAL-URL:https://www.rbfrs.co.uk
X-WR-CALDESC:Events for Royal Berkshire Fire and Rescue Service
REFRESH-INTERVAL;VALUE=DURATION:PT1H
X-Robots-Tag:noindex
X-PUBLISHED-TTL:PT1H
BEGIN:VTIMEZONE
TZID:Europe/London
BEGIN:DAYLIGHT
TZOFFSETFROM:+0000
TZOFFSETTO:+0100
TZNAME:BST
DTSTART:20240331T010000
END:DAYLIGHT
BEGIN:STANDARD
TZOFFSETFROM:+0100
TZOFFSETTO:+0000
TZNAME:GMT
DTSTART:20241027T010000
END:STANDARD
BEGIN:DAYLIGHT
TZOFFSETFROM:+0000
TZOFFSETTO:+0100
TZNAME:BST
DTSTART:20250330T010000
END:DAYLIGHT
BEGIN:STANDARD
TZOFFSETFROM:+0100
TZOFFSETTO:+0000
TZNAME:GMT
DTSTART:20251026T010000
END:STANDARD
BEGIN:DAYLIGHT
TZOFFSETFROM:+0000
TZOFFSETTO:+0100
TZNAME:BST
DTSTART:20260329T010000
END:DAYLIGHT
BEGIN:STANDARD
TZOFFSETFROM:+0100
TZOFFSETTO:+0000
TZNAME:GMT
DTSTART:20261025T010000
END:STANDARD
END:VTIMEZONE
BEGIN:VEVENT
DTSTART;TZID=Europe/London:20250426T100000
DTEND;TZID=Europe/London:20250426T140000
DTSTAMP:20260421T073136
CREATED:20250415T153824Z
LAST-MODIFIED:20250415T153827Z
UID:10000277-1745661600-1745676000@www.rbfrs.co.uk
SUMMARY:Firefighter Discovery Day
DESCRIPTION:Whilst there is no typical day in this job\, this session will provide you with an overview of the role of a modern Firefighter. \n\n\n\nThe learning outcomes for this session are: \n\n\n\nMaking an informed decision – is this the career for me? \n\n\n\nUnderstand the role of a firefighter\, what the job entails and the demands of the job. \n\n\n\nUnderstand the shift patterns\, structure and daily routines. \n\n\n\nUnderstand the training and requirements for the apprenticeship. \n\n\n\nUnderstand the fitness requirements and physical tests. \n\n\n\nExperience of the practical elements associated with the fitness requirement including the physical tests at recruitment.
URL:https://www.rbfrs.co.uk/community-events-and-meeting-rooms/firefighter-discovery-day/
LOCATION:Theale Community Fire Station\, Theale Community Fire Station\, Wigmore Lane\, Theale\, Reading\, Berkshire\, RG7 5HH\, United Kingdom
END:VEVENT
END:VCALENDAR