BEGIN:VCALENDAR
VERSION:2.0
PRODID:-//Royal Berkshire Fire and Rescue Service - ECPv6.15.18//NONSGML v1.0//EN
CALSCALE:GREGORIAN
METHOD:PUBLISH
X-ORIGINAL-URL:https://www.rbfrs.co.uk
X-WR-CALDESC:Events for Royal Berkshire Fire and Rescue Service
REFRESH-INTERVAL;VALUE=DURATION:PT1H
X-Robots-Tag:noindex
X-PUBLISHED-TTL:PT1H
BEGIN:VTIMEZONE
TZID:Europe/London
BEGIN:DAYLIGHT
TZOFFSETFROM:+0000
TZOFFSETTO:+0100
TZNAME:BST
DTSTART:20240331T010000
END:DAYLIGHT
BEGIN:STANDARD
TZOFFSETFROM:+0100
TZOFFSETTO:+0000
TZNAME:GMT
DTSTART:20241027T010000
END:STANDARD
BEGIN:DAYLIGHT
TZOFFSETFROM:+0000
TZOFFSETTO:+0100
TZNAME:BST
DTSTART:20250330T010000
END:DAYLIGHT
BEGIN:STANDARD
TZOFFSETFROM:+0100
TZOFFSETTO:+0000
TZNAME:GMT
DTSTART:20251026T010000
END:STANDARD
BEGIN:DAYLIGHT
TZOFFSETFROM:+0000
TZOFFSETTO:+0100
TZNAME:BST
DTSTART:20260329T010000
END:DAYLIGHT
BEGIN:STANDARD
TZOFFSETFROM:+0100
TZOFFSETTO:+0000
TZNAME:GMT
DTSTART:20261025T010000
END:STANDARD
END:VTIMEZONE
BEGIN:VEVENT
DTSTART;TZID=Europe/London:20250329T100000
DTEND;TZID=Europe/London:20250329T120000
DTSTAMP:20260421T120501
CREATED:20241230T135227Z
LAST-MODIFIED:20241230T135232Z
UID:10000254-1743242400-1743249600@www.rbfrs.co.uk
SUMMARY:Discover a Career - Station Tour and Demonstration
DESCRIPTION:Our Discover a Career as a Firefighter sessions are there to help potential applicants find out more about being a Firefighter in Berkshire.  \n\n\n\nThe sessions provide an ideal opportunity to come along to find out more about the role\, the application process and what life at a fire station is like.  \n\n\n\nIf you don’t know much about the fire and rescue service at the moment – don’t worry! These sessions have been designed to give anyone a flavour of the role – whether you’ve thought about it before or not.  \n\n\n\nAll sessions are free to attend.  \n\n\n\nStation Tour and Demonstrations: In this session\, you will have an opportunity to visit a local fire station and meet some of our Firefighters.
URL:https://www.rbfrs.co.uk/community-events-and-meeting-rooms/discover-a-career-station-tour-and-demonstration-3/
LOCATION:Slough Fire Station\, Tuns Lane\, Slough\, Berkshire\, SL1 2XA\, United Kingdom
ATTACH;FMTTYPE=image/jpeg:https://www.rbfrs.co.uk/app/uploads/2024/08/siren-banner-RBFRS-Graduation-047-scaled.jpg
GEO:51.5109985;-0.6115524
X-APPLE-STRUCTURED-LOCATION;VALUE=URI;X-ADDRESS=Slough Fire Station Tuns Lane Slough Berkshire SL1 2XA United Kingdom;X-APPLE-RADIUS=500;X-TITLE=Tuns Lane:geo:-0.6115524,51.5109985
END:VEVENT
BEGIN:VEVENT
DTSTART;TZID=Europe/London:20250329T103000
DTEND;TZID=Europe/London:20250329T153000
DTSTAMP:20260421T120501
CREATED:20250211T120258Z
LAST-MODIFIED:20250211T120310Z
UID:10000262-1743244200-1743262200@www.rbfrs.co.uk
SUMMARY:Charity Car Wash
DESCRIPTION:On Saturday\, 29 March 2025\, firefighters from RBFRS will be grabbing their buckets and sponges to host a charity car wash. \n\n\n\nThe event will be held at Newbury Fire Station on Hawthorn Road\, between 10:30am and 3:30pm on Saturday\, 29 March. \n\n\n\nThe suggested minimum donation is £5 per car\, with all contributions going towards The Fire Fighters Charity – a deserving cause that provides a variety of services and specialist support for fire service staff and their families.
URL:https://www.rbfrs.co.uk/community-events-and-meeting-rooms/charity-car-wash-5/
LOCATION:Newbury Fire Station\, Newbury Fire Station\, Newbury\, Berkshire\, RG14 1LD\, United Kingdom
ATTACH;FMTTYPE=image/jpeg:https://www.rbfrs.co.uk/app/uploads/2025/02/car-wash-scaled.jpg
GEO:51.4074015;-1.3182571
X-APPLE-STRUCTURED-LOCATION;VALUE=URI;X-ADDRESS=Newbury Fire Station Newbury Fire Station Newbury Berkshire RG14 1LD United Kingdom;X-APPLE-RADIUS=500;X-TITLE=Newbury Fire Station:geo:-1.3182571,51.4074015
END:VEVENT
END:VCALENDAR