BEGIN:VCALENDAR
VERSION:2.0
PRODID:-//Royal Berkshire Fire and Rescue Service - ECPv6.15.18//NONSGML v1.0//EN
CALSCALE:GREGORIAN
METHOD:PUBLISH
X-WR-CALNAME:Royal Berkshire Fire and Rescue Service
X-ORIGINAL-URL:https://www.rbfrs.co.uk
X-WR-CALDESC:Events for Royal Berkshire Fire and Rescue Service
REFRESH-INTERVAL;VALUE=DURATION:PT1H
X-Robots-Tag:noindex
X-PUBLISHED-TTL:PT1H
BEGIN:VTIMEZONE
TZID:Europe/London
BEGIN:DAYLIGHT
TZOFFSETFROM:+0000
TZOFFSETTO:+0100
TZNAME:BST
DTSTART:20240331T010000
END:DAYLIGHT
BEGIN:STANDARD
TZOFFSETFROM:+0100
TZOFFSETTO:+0000
TZNAME:GMT
DTSTART:20241027T010000
END:STANDARD
BEGIN:DAYLIGHT
TZOFFSETFROM:+0000
TZOFFSETTO:+0100
TZNAME:BST
DTSTART:20250330T010000
END:DAYLIGHT
BEGIN:STANDARD
TZOFFSETFROM:+0100
TZOFFSETTO:+0000
TZNAME:GMT
DTSTART:20251026T010000
END:STANDARD
BEGIN:DAYLIGHT
TZOFFSETFROM:+0000
TZOFFSETTO:+0100
TZNAME:BST
DTSTART:20260329T010000
END:DAYLIGHT
BEGIN:STANDARD
TZOFFSETFROM:+0100
TZOFFSETTO:+0000
TZNAME:GMT
DTSTART:20261025T010000
END:STANDARD
END:VTIMEZONE
BEGIN:VEVENT
DTSTART;TZID=Europe/London:20250503T100000
DTEND;TZID=Europe/London:20250503T143000
DTSTAMP:20260421T091141
CREATED:20250226T162140Z
LAST-MODIFIED:20250227T114850Z
UID:10000264-1746266400-1746282600@www.rbfrs.co.uk
SUMMARY:Be a Better Biker - Theale
DESCRIPTION:Sign up now\n\n\n\n\n \n\n\n\nBe a Better Biker workshops allow riders to take their skills to a level that helps improve safety and enjoyment. For full licence holders. \n\n\n\nThe day covers the principles of advanced riding including: \n\n\n\n• Manoeuvring \n\n\n\n• Overtaking \n\n\n\n• Cornering techniques \n\n\n\n• On-road assessment with observers\, approximately 2 hours \n\n\n\n• A review of the on-road sessions\, discussing lessons learnt \n\n\n\nAt the end of the session each candidate will receive a copy of the book “How to Be a Better Rider” published by IAM Roadsmart. \n\n\n\nThere are up to 12 places available each day. Workshops will start at 10.00am prompt. Please arrive at 9:30am for coffee and registration and the day will finish by 2.30pm. \n\n\n\nPlease ensure you have a full tank of fuel\, or at least 100 miles worth of fuel\, and bring your own lunch\, though we will provide tea and coffee.
URL:https://www.rbfrs.co.uk/community-events-and-meeting-rooms/be-a-better-biker-theale/
LOCATION:Theale Fire Station\, 5 Wigmore Ln\, Theale\, Reading RG7 5HH\, United Kingdom\, Reading\, United Kingdom
END:VEVENT
BEGIN:VEVENT
DTSTART;TZID=Europe/London:20250503T100000
DTEND;TZID=Europe/London:20250503T160000
DTSTAMP:20260421T091141
CREATED:20250422T142112Z
LAST-MODIFIED:20250422T142114Z
UID:10000284-1746266400-1746288000@www.rbfrs.co.uk
SUMMARY:Water Safety Event
DESCRIPTION:On Saturday\, 3 May\, one of our water safety crews will be at a Water Safety Event hosted by Surrey Fire and Rescue Service. \n\n\n\nCome along and say hello between 10am and 4pm at Virginia Water\, GU25 4QF. \n\n\n\nSee live rescue demonstrations\, hear water safety advice\, and meet the water safety experts.
URL:https://www.rbfrs.co.uk/community-events-and-meeting-rooms/water-safety-event-2/
LOCATION:Virginia Water\, Virginia Water\, Windsor\, GU25 4QF\, United Kingdom
ATTACH;FMTTYPE=image/jpeg:https://www.rbfrs.co.uk/app/uploads/2023/05/IMG_0771-scaled.jpg
END:VEVENT
BEGIN:VEVENT
DTSTART;TZID=Europe/London:20250503T110000
DTEND;TZID=Europe/London:20250503T150000
DTSTAMP:20260421T091141
CREATED:20250325T110803Z
LAST-MODIFIED:20250325T110811Z
UID:10000271-1746270000-1746284400@www.rbfrs.co.uk
SUMMARY:Charity Car Wash - Wokingham Road
DESCRIPTION:On Saturday\, 3 May\, firefighters at Wokingham Road Fire Station will be hosting a charity car wash. \n\n\n\nCome along to Wokingham Road Fire Station between 11am and 3pm to take part and donate! \n\n\n\nThe suggested minimum for donations is £5 per car\, with all money raised going to the Fire Fighters Charity.
URL:https://www.rbfrs.co.uk/community-events-and-meeting-rooms/charity-car-wash-wokingham-road/
LOCATION:Wokingham Road Fire Station\, Fire Station\, Wokingham Road\, Whiteknights\, Reading\, RG6 1JU\, United Kingdom
ATTACH;FMTTYPE=image/jpeg:https://www.rbfrs.co.uk/app/uploads/2025/02/car-wash-scaled.jpg
END:VEVENT
END:VCALENDAR