BEGIN:VCALENDAR
VERSION:2.0
PRODID:-//Royal Berkshire Fire and Rescue Service - ECPv6.15.18//NONSGML v1.0//EN
CALSCALE:GREGORIAN
METHOD:PUBLISH
X-ORIGINAL-URL:https://www.rbfrs.co.uk
X-WR-CALDESC:Events for Royal Berkshire Fire and Rescue Service
REFRESH-INTERVAL;VALUE=DURATION:PT1H
X-Robots-Tag:noindex
X-PUBLISHED-TTL:PT1H
BEGIN:VTIMEZONE
TZID:Europe/London
BEGIN:DAYLIGHT
TZOFFSETFROM:+0000
TZOFFSETTO:+0100
TZNAME:BST
DTSTART:20240331T010000
END:DAYLIGHT
BEGIN:STANDARD
TZOFFSETFROM:+0100
TZOFFSETTO:+0000
TZNAME:GMT
DTSTART:20241027T010000
END:STANDARD
BEGIN:DAYLIGHT
TZOFFSETFROM:+0000
TZOFFSETTO:+0100
TZNAME:BST
DTSTART:20250330T010000
END:DAYLIGHT
BEGIN:STANDARD
TZOFFSETFROM:+0100
TZOFFSETTO:+0000
TZNAME:GMT
DTSTART:20251026T010000
END:STANDARD
BEGIN:DAYLIGHT
TZOFFSETFROM:+0000
TZOFFSETTO:+0100
TZNAME:BST
DTSTART:20260329T010000
END:DAYLIGHT
BEGIN:STANDARD
TZOFFSETFROM:+0100
TZOFFSETTO:+0000
TZNAME:GMT
DTSTART:20261025T010000
END:STANDARD
END:VTIMEZONE
BEGIN:VEVENT
DTSTART;TZID=Europe/London:20250517T110000
DTEND;TZID=Europe/London:20250517T160000
DTSTAMP:20260421T133821
CREATED:20250409T095409Z
LAST-MODIFIED:20250516T132902Z
UID:10000274-1747479600-1747497600@www.rbfrs.co.uk
SUMMARY:Open Day — Caversham Road
DESCRIPTION:UPDATE 16/05/2025 — Following the tragic incident in Bicester yesterday\, we have made the decision to postpone our Open Day at Caversham Road Fire Station. \n\n\n\nThe event was due to take place tomorrow (Saturday\, 17 May) between 11am and 4pm. \n\n\n\nWe apologise for any inconvenience caused. \n\n\n\nORIGINAL POST \n\n\n\nCaversham Road Fire Station will be hosting a fun-filled Open Day on Saturday\, 17 May between 11am and 4pm. \n\n\n\nThis event will be free to attend. \n\n\n\nPlease note that parking will not be available on site. \n\n\n\nThe nearest parking is either on Chatham Street or Vastern Road. \n\n\n\nPlease note that the car park at TGI Fridays and The Range is for customers only and may incur fines.
URL:https://www.rbfrs.co.uk/community-events-and-meeting-rooms/open-day-caversham-road/
LOCATION:Caversham Road Fire Station\, Caversham Rd\, Reading\, RG1 1AA\, United Kingdom
ATTACH;FMTTYPE=image/jpeg:https://www.rbfrs.co.uk/app/uploads/2022/10/1.-caversham-road-fire-station-scaled.jpg
GEO:51.4609923;-0.9754863
X-APPLE-STRUCTURED-LOCATION;VALUE=URI;X-ADDRESS=Caversham Road Fire Station Caversham Rd Reading RG1 1AA United Kingdom;X-APPLE-RADIUS=500;X-TITLE=Caversham Rd:geo:-0.9754863,51.4609923
END:VEVENT
END:VCALENDAR