BEGIN:VCALENDAR
VERSION:2.0
PRODID:-//Royal Berkshire Fire and Rescue Service - ECPv6.15.18//NONSGML v1.0//EN
CALSCALE:GREGORIAN
METHOD:PUBLISH
X-WR-CALNAME:Royal Berkshire Fire and Rescue Service
X-ORIGINAL-URL:https://www.rbfrs.co.uk
X-WR-CALDESC:Events for Royal Berkshire Fire and Rescue Service
REFRESH-INTERVAL;VALUE=DURATION:PT1H
X-Robots-Tag:noindex
X-PUBLISHED-TTL:PT1H
BEGIN:VTIMEZONE
TZID:Europe/London
BEGIN:DAYLIGHT
TZOFFSETFROM:+0000
TZOFFSETTO:+0100
TZNAME:BST
DTSTART:20240331T010000
END:DAYLIGHT
BEGIN:STANDARD
TZOFFSETFROM:+0100
TZOFFSETTO:+0000
TZNAME:GMT
DTSTART:20241027T010000
END:STANDARD
BEGIN:DAYLIGHT
TZOFFSETFROM:+0000
TZOFFSETTO:+0100
TZNAME:BST
DTSTART:20250330T010000
END:DAYLIGHT
BEGIN:STANDARD
TZOFFSETFROM:+0100
TZOFFSETTO:+0000
TZNAME:GMT
DTSTART:20251026T010000
END:STANDARD
BEGIN:DAYLIGHT
TZOFFSETFROM:+0000
TZOFFSETTO:+0100
TZNAME:BST
DTSTART:20260329T010000
END:DAYLIGHT
BEGIN:STANDARD
TZOFFSETFROM:+0100
TZOFFSETTO:+0000
TZNAME:GMT
DTSTART:20261025T010000
END:STANDARD
END:VTIMEZONE
BEGIN:VEVENT
DTSTART;TZID=Europe/London:20250630T190000
DTEND;TZID=Europe/London:20250630T210000
DTSTAMP:20260421T070529
CREATED:20250605T102141Z
LAST-MODIFIED:20250605T102143Z
UID:10000292-1751310000-1751317200@www.rbfrs.co.uk
SUMMARY:Lambourn Firefighter Recruitment Event
DESCRIPTION:Lambourn! Want to Make a Difference in Your Community? \n\n\n\nJoin us at our event on Monday\, 30 June at Lambourn Fire Station between 7pm and 9pm to learn more about becoming an On-call Firefighter. \n\n\n\nChat to the crew and gain some insight into this important role within your community. The event will include various show and tells and station tours\, to help you understand more about the On-call recruitment process and life as a firefighter at our On-call fire stations. \n\n\n\nIf you cannot attend this event\, Hungerford will also be hosting an On-call recruitment event on Monday\, 23 June between 7pm and 9pm at Hungerford Fire Station. \n\n\n\nTo register your interest\, please email on-callrecruitment@rbfrs.co.uk stating which event you would like to attend. \n\n\n\nFor more information about On-call Firefighters\, please visit our website: rbfrs.co.uk/on-call
URL:https://www.rbfrs.co.uk/community-events-and-meeting-rooms/lambourn-firefighter-recruitment-event/
LOCATION:Lambourn Fire Station\, Newbury Street\, Hungerford\, Berkshire\, RG17 8YT\, United Kingdom
ATTACH;FMTTYPE=image/jpeg:https://www.rbfrs.co.uk/app/uploads/2025/06/Lambourn-Targeted-Ad-scaled.jpg
GEO:51.5061044;-1.5264112
X-APPLE-STRUCTURED-LOCATION;VALUE=URI;X-ADDRESS=Lambourn Fire Station Newbury Street Hungerford Berkshire RG17 8YT United Kingdom;X-APPLE-RADIUS=500;X-TITLE=Newbury Street:geo:-1.5264112,51.5061044
END:VEVENT
END:VCALENDAR