BEGIN:VCALENDAR
VERSION:2.0
PRODID:-//Royal Berkshire Fire and Rescue Service - ECPv6.15.18//NONSGML v1.0//EN
CALSCALE:GREGORIAN
METHOD:PUBLISH
X-ORIGINAL-URL:https://www.rbfrs.co.uk
X-WR-CALDESC:Events for Royal Berkshire Fire and Rescue Service
REFRESH-INTERVAL;VALUE=DURATION:PT1H
X-Robots-Tag:noindex
X-PUBLISHED-TTL:PT1H
BEGIN:VTIMEZONE
TZID:Europe/London
BEGIN:DAYLIGHT
TZOFFSETFROM:+0000
TZOFFSETTO:+0100
TZNAME:BST
DTSTART:20250330T010000
END:DAYLIGHT
BEGIN:STANDARD
TZOFFSETFROM:+0100
TZOFFSETTO:+0000
TZNAME:GMT
DTSTART:20251026T010000
END:STANDARD
BEGIN:DAYLIGHT
TZOFFSETFROM:+0000
TZOFFSETTO:+0100
TZNAME:BST
DTSTART:20260329T010000
END:DAYLIGHT
BEGIN:STANDARD
TZOFFSETFROM:+0100
TZOFFSETTO:+0000
TZNAME:GMT
DTSTART:20261025T010000
END:STANDARD
BEGIN:DAYLIGHT
TZOFFSETFROM:+0000
TZOFFSETTO:+0100
TZNAME:BST
DTSTART:20270328T010000
END:DAYLIGHT
BEGIN:STANDARD
TZOFFSETFROM:+0100
TZOFFSETTO:+0000
TZNAME:GMT
DTSTART:20271031T010000
END:STANDARD
END:VTIMEZONE
BEGIN:VEVENT
DTSTART;TZID=Europe/London:20260423T103000
DTEND;TZID=Europe/London:20260423T120000
DTSTAMP:20260422T081220
CREATED:20260326T134717Z
LAST-MODIFIED:20260326T134718Z
UID:10000344-1776940200-1776945600@www.rbfrs.co.uk
SUMMARY:Home Education Fire Safety Session
DESCRIPTION:Fire Safety Sessions with Royal Berkshire Fire and Rescue Service for Home-Schooled Children\n\n\n\nLooking for a valuable\, hands‑on learning experience for your child? Our free Home Education Fire Safety Sessions are the perfect way to help KS2 children (ages 8-11) gain confidence and essential life-saving knowledge. \n\n\n\nIn this fun and interactive 90‑minute session\, children will discover how to: \n\n\n\n\nSpot potential fire hazards at home;\n\n\n\nTest and respond safely to smoke alarms;\n\n\n\nCreate and follow a family fire escape plan;\n\n\n\nCall 999 confidently in an emergency.\n\n\n\n\nThey will also have the opportunity to explore a real fire engine\, handle equipment and learn about the vital role of the Fire Service in keeping communities safe. \n\n\n\nPlease note – parents and carers must remain on site for the duration of the session. \n\n\n\nRegistration only – please do not attend stations without registering as you will not be permitted entry. \n\n\n\nRegister here or for more information\, visit www.rbfrs.co.uk/HomeEducation
URL:https://www.rbfrs.co.uk/community-events-and-meeting-rooms/home-education-fire-safety-session/
LOCATION:Newbury Fire Station\, Newbury Fire Station\, Newbury\, Berkshire\, RG14 1LD\, United Kingdom
ATTACH;FMTTYPE=image/jpeg:https://www.rbfrs.co.uk/app/uploads/2026/03/Home-Ed-Final-COLOUR-CORRECTED-Cropped.jpg
GEO:51.4074015;-1.3182571
X-APPLE-STRUCTURED-LOCATION;VALUE=URI;X-ADDRESS=Newbury Fire Station Newbury Fire Station Newbury Berkshire RG14 1LD United Kingdom;X-APPLE-RADIUS=500;X-TITLE=Newbury Fire Station:geo:-1.3182571,51.4074015
END:VEVENT
BEGIN:VEVENT
DTSTART;TZID=Europe/London:20260425T100000
DTEND;TZID=Europe/London:20260425T143000
DTSTAMP:20260422T081220
CREATED:20260212T141534Z
LAST-MODIFIED:20260212T141538Z
UID:10000319-1777111200-1777127400@www.rbfrs.co.uk
SUMMARY:Be a Better Biker - Crowthorne
DESCRIPTION:Sign up now\n\n\n\n\n \n\n\n\nBe a Better Biker is back for 2026!\n\n\n\nWant to lift your motorbike handling to next level? Then join us on one of our fantastic Be a Better Biker courses this year in Berkshire. \n\n\n\nDelivered by Thames Valley Advanced Motorcyclists (TVAM)\, and supported by West Berkshire Council and Royal Berkshire Fire and Rescue Service\, you’re sure to learn some new skills. \n\n\n\nFor more information and to book a place\, visit: https://www.eventbrite.co.uk/o/travel-safe-bucks-41365202613 \n\n\n\nThanks go to Buckinghamshire Council for supporting this initiative.
URL:https://www.rbfrs.co.uk/community-events-and-meeting-rooms/be-a-better-biker-crowthorne-3/
LOCATION:Crowthorne Fire Station\, High Street\, Crowthorne\, Berkshire\, RG45 7AH\, United Kingdom
GEO:51.3669978;-0.79448
X-APPLE-STRUCTURED-LOCATION;VALUE=URI;X-ADDRESS=Crowthorne Fire Station High Street Crowthorne Berkshire RG45 7AH United Kingdom;X-APPLE-RADIUS=500;X-TITLE=High Street:geo:-0.79448,51.3669978
END:VEVENT
END:VCALENDAR