BEGIN:VCALENDAR
VERSION:2.0
PRODID:-//Royal Berkshire Fire and Rescue Service - ECPv6.15.18//NONSGML v1.0//EN
CALSCALE:GREGORIAN
METHOD:PUBLISH
X-WR-CALNAME:Royal Berkshire Fire and Rescue Service
X-ORIGINAL-URL:https://www.rbfrs.co.uk
X-WR-CALDESC:Events for Royal Berkshire Fire and Rescue Service
REFRESH-INTERVAL;VALUE=DURATION:PT1H
X-Robots-Tag:noindex
X-PUBLISHED-TTL:PT1H
BEGIN:VTIMEZONE
TZID:Europe/London
BEGIN:DAYLIGHT
TZOFFSETFROM:+0000
TZOFFSETTO:+0100
TZNAME:BST
DTSTART:20170326T010000
END:DAYLIGHT
BEGIN:STANDARD
TZOFFSETFROM:+0100
TZOFFSETTO:+0000
TZNAME:GMT
DTSTART:20171029T010000
END:STANDARD
BEGIN:DAYLIGHT
TZOFFSETFROM:+0000
TZOFFSETTO:+0100
TZNAME:BST
DTSTART:20180325T010000
END:DAYLIGHT
BEGIN:STANDARD
TZOFFSETFROM:+0100
TZOFFSETTO:+0000
TZNAME:GMT
DTSTART:20181028T010000
END:STANDARD
BEGIN:DAYLIGHT
TZOFFSETFROM:+0000
TZOFFSETTO:+0100
TZNAME:BST
DTSTART:20190331T010000
END:DAYLIGHT
BEGIN:STANDARD
TZOFFSETFROM:+0100
TZOFFSETTO:+0000
TZNAME:GMT
DTSTART:20191027T010000
END:STANDARD
BEGIN:DAYLIGHT
TZOFFSETFROM:+0000
TZOFFSETTO:+0100
TZNAME:BST
DTSTART:20200329T010000
END:DAYLIGHT
BEGIN:STANDARD
TZOFFSETFROM:+0100
TZOFFSETTO:+0000
TZNAME:GMT
DTSTART:20201025T010000
END:STANDARD
BEGIN:DAYLIGHT
TZOFFSETFROM:+0000
TZOFFSETTO:+0100
TZNAME:BST
DTSTART:20210328T010000
END:DAYLIGHT
BEGIN:STANDARD
TZOFFSETFROM:+0100
TZOFFSETTO:+0000
TZNAME:GMT
DTSTART:20211031T010000
END:STANDARD
BEGIN:DAYLIGHT
TZOFFSETFROM:+0000
TZOFFSETTO:+0100
TZNAME:BST
DTSTART:20220327T010000
END:DAYLIGHT
BEGIN:STANDARD
TZOFFSETFROM:+0100
TZOFFSETTO:+0000
TZNAME:GMT
DTSTART:20221030T010000
END:STANDARD
BEGIN:DAYLIGHT
TZOFFSETFROM:+0000
TZOFFSETTO:+0100
TZNAME:BST
DTSTART:20230326T010000
END:DAYLIGHT
BEGIN:STANDARD
TZOFFSETFROM:+0100
TZOFFSETTO:+0000
TZNAME:GMT
DTSTART:20231029T010000
END:STANDARD
BEGIN:DAYLIGHT
TZOFFSETFROM:+0000
TZOFFSETTO:+0100
TZNAME:BST
DTSTART:20240331T010000
END:DAYLIGHT
BEGIN:STANDARD
TZOFFSETFROM:+0100
TZOFFSETTO:+0000
TZNAME:GMT
DTSTART:20241027T010000
END:STANDARD
BEGIN:DAYLIGHT
TZOFFSETFROM:+0000
TZOFFSETTO:+0100
TZNAME:BST
DTSTART:20250330T010000
END:DAYLIGHT
BEGIN:STANDARD
TZOFFSETFROM:+0100
TZOFFSETTO:+0000
TZNAME:GMT
DTSTART:20251026T010000
END:STANDARD
BEGIN:DAYLIGHT
TZOFFSETFROM:+0000
TZOFFSETTO:+0100
TZNAME:BST
DTSTART:20260329T010000
END:DAYLIGHT
BEGIN:STANDARD
TZOFFSETFROM:+0100
TZOFFSETTO:+0000
TZNAME:GMT
DTSTART:20261025T010000
END:STANDARD
END:VTIMEZONE
BEGIN:VEVENT
DTSTART;TZID=Europe/London:20250623T190000
DTEND;TZID=Europe/London:20250623T210000
DTSTAMP:20260421T091449
CREATED:20250605T101753Z
LAST-MODIFIED:20250605T101918Z
UID:10000291-1750705200-1750712400@www.rbfrs.co.uk
SUMMARY:Hungerford Firefighter Recruitment Event
DESCRIPTION:Hungerford! Want to Make a Difference in Your Community? \n\n\n\nJoin us at our event on Monday\, 23 June at Hungerford Fire Station between 7pm and 9pm to learn more about becoming an On-call Firefighter. \n\n\n\nChat to the crew and gain some insight into this important role within your community. The event will include various show and tells and station tours\, to help you understand more about the On-call recruitment process and life as a firefighter at our On-call fire stations. \n\n\n\nIf you cannot attend this event\, Lambourn will also be hosting an On-call recruitment event on Monday\, 30 June between 7pm and 9pm at Lambourn Fire Station. \n\n\n\nTo register your interest\, please email on-callrecruitment@rbfrs.co.uk stating which event you would like to attend. \n\n\n\nFor more information about On-call Firefighters\, please visit our website: rbfrs.co.uk/on-call
URL:https://www.rbfrs.co.uk/community-events-and-meeting-rooms/hungerford-firefighter-recruitment-event/
LOCATION:Hungerford Fire Station\, Church Street\, Hungerford\, West Berkshire\, RG17 0JG\, United Kingdom
ATTACH;FMTTYPE=image/jpeg:https://www.rbfrs.co.uk/app/uploads/2025/06/Hungerford-Targeted-Ad-scaled.jpg
GEO:51.4148311;-1.5187482
X-APPLE-STRUCTURED-LOCATION;VALUE=URI;X-ADDRESS=Hungerford Fire Station Church Street Hungerford West Berkshire RG17 0JG United Kingdom;X-APPLE-RADIUS=500;X-TITLE=Church Street:geo:-1.5187482,51.4148311
END:VEVENT
BEGIN:VEVENT
DTSTART;TZID=Europe/London:20250205T190000
DTEND;TZID=Europe/London:20250205T210000
DTSTAMP:20260421T091449
CREATED:20241219T154900Z
LAST-MODIFIED:20241219T154908Z
UID:10000241-1738782000-1738789200@www.rbfrs.co.uk
SUMMARY:FireFit: Week Five
DESCRIPTION:Are you interested in becoming an On-Call Firefighter? Sign up to FireFit\, our free fitness training programme that offers practical advice and a range of exercise drills to help you prepare for the recruitment tests. \n\n\n\nRead more here
URL:https://www.rbfrs.co.uk/community-events-and-meeting-rooms/firefit-week-five/
LOCATION:Hungerford Fire Station\, Church Street\, Hungerford\, West Berkshire\, RG17 0JG\, United Kingdom
GEO:51.4148311;-1.5187482
X-APPLE-STRUCTURED-LOCATION;VALUE=URI;X-ADDRESS=Hungerford Fire Station Church Street Hungerford West Berkshire RG17 0JG United Kingdom;X-APPLE-RADIUS=500;X-TITLE=Church Street:geo:-1.5187482,51.4148311
END:VEVENT
BEGIN:VEVENT
DTSTART;TZID=Europe/London:20250129T190000
DTEND;TZID=Europe/London:20250129T210000
DTSTAMP:20260421T091449
CREATED:20241219T154721Z
LAST-MODIFIED:20241219T154728Z
UID:10000240-1738177200-1738184400@www.rbfrs.co.uk
SUMMARY:FireFit: Week Four
DESCRIPTION:Are you interested in becoming an On-Call Firefighter? Sign up to FireFit\, our free fitness training programme that offers practical advice and a range of exercise drills to help you prepare for the recruitment tests. \n\n\n\nRead more here
URL:https://www.rbfrs.co.uk/community-events-and-meeting-rooms/firefit-week-four/
LOCATION:Hungerford Fire Station\, Church Street\, Hungerford\, West Berkshire\, RG17 0JG\, United Kingdom
GEO:51.4148311;-1.5187482
X-APPLE-STRUCTURED-LOCATION;VALUE=URI;X-ADDRESS=Hungerford Fire Station Church Street Hungerford West Berkshire RG17 0JG United Kingdom;X-APPLE-RADIUS=500;X-TITLE=Church Street:geo:-1.5187482,51.4148311
END:VEVENT
BEGIN:VEVENT
DTSTART;TZID=Europe/London:20250122T080000
DTEND;TZID=Europe/London:20250122T170000
DTSTAMP:20260421T091449
CREATED:20241219T154524Z
LAST-MODIFIED:20241219T154528Z
UID:10000239-1737532800-1737565200@www.rbfrs.co.uk
SUMMARY:FireFit: Week 3
DESCRIPTION:Are you interested in becoming an On-Call Firefighter? Sign up to FireFit\, our free fitness training programme that offers practical advice and a range of exercise drills to help you prepare for the recruitment tests. \n\n\n\nRead more here
URL:https://www.rbfrs.co.uk/community-events-and-meeting-rooms/firefit-week-3/
LOCATION:Hungerford Fire Station\, Church Street\, Hungerford\, West Berkshire\, RG17 0JG\, United Kingdom
GEO:51.4148311;-1.5187482
X-APPLE-STRUCTURED-LOCATION;VALUE=URI;X-ADDRESS=Hungerford Fire Station Church Street Hungerford West Berkshire RG17 0JG United Kingdom;X-APPLE-RADIUS=500;X-TITLE=Church Street:geo:-1.5187482,51.4148311
END:VEVENT
BEGIN:VEVENT
DTSTART;TZID=Europe/London:20250115T190000
DTEND;TZID=Europe/London:20250115T210000
DTSTAMP:20260421T091449
CREATED:20241219T154325Z
LAST-MODIFIED:20241219T154330Z
UID:10000238-1736967600-1736974800@www.rbfrs.co.uk
SUMMARY:FireFit: Week Two
DESCRIPTION:Are you interested in becoming an On-Call Firefighter? Sign up to FireFit\, our free fitness training programme that offers practical advice and a range of exercise drills to help you prepare for the recruitment tests. \n\n\n\nRead more here
URL:https://www.rbfrs.co.uk/community-events-and-meeting-rooms/firefit-week-two/
LOCATION:Hungerford Fire Station\, Church Street\, Hungerford\, West Berkshire\, RG17 0JG\, United Kingdom
GEO:51.4148311;-1.5187482
X-APPLE-STRUCTURED-LOCATION;VALUE=URI;X-ADDRESS=Hungerford Fire Station Church Street Hungerford West Berkshire RG17 0JG United Kingdom;X-APPLE-RADIUS=500;X-TITLE=Church Street:geo:-1.5187482,51.4148311
END:VEVENT
BEGIN:VEVENT
DTSTART;TZID=Europe/London:20250108T190000
DTEND;TZID=Europe/London:20250108T210000
DTSTAMP:20260421T091449
CREATED:20241219T154119Z
LAST-MODIFIED:20241219T154125Z
UID:10000237-1736362800-1736370000@www.rbfrs.co.uk
SUMMARY:FireFit Week One
DESCRIPTION:Are you interested in becoming an On-Call Firefighter? Sign up to FireFit\, our free fitness training programme that offers practical advice and a range of exercise drills to help you prepare for the recruitment tests. \n\n\n\nRead more here
URL:https://www.rbfrs.co.uk/community-events-and-meeting-rooms/firefit-week-one/
LOCATION:Hungerford Fire Station\, Church Street\, Hungerford\, West Berkshire\, RG17 0JG\, United Kingdom
GEO:51.4148311;-1.5187482
X-APPLE-STRUCTURED-LOCATION;VALUE=URI;X-ADDRESS=Hungerford Fire Station Church Street Hungerford West Berkshire RG17 0JG United Kingdom;X-APPLE-RADIUS=500;X-TITLE=Church Street:geo:-1.5187482,51.4148311
END:VEVENT
BEGIN:VEVENT
DTSTART;TZID=Europe/London:20190406T100000
DTEND;TZID=Europe/London:20190406T140000
DTSTAMP:20260421T091449
CREATED:20221011T131252Z
LAST-MODIFIED:20221011T131253Z
UID:10000075-1554544800-1554559200@www.rbfrs.co.uk
SUMMARY:Have a Go Event - Hungerford Fire Station
DESCRIPTION:Are you eager to serve your local community\, responding to emergencies and providing vital safety advice? \n\n\n\nAre you living or working within 6–8 minutes of your local on-call fire station? \n\n\n\nIf the answer is yes\, you should come to our Have a Go events\, where you get an opportunity to try out some of the physical and written entry tests that you would need to pass to become an on-call firefighter. You will also have the chance to meet some of the local firefighters who are already in the role. \n\n\n\nStill not sure if it’s for you? Take a look at our YouTube page where you can get an idea of what the role is like: \n\n\n\n\n\n\n\n\n\nFor further information\, please visit our website:http://rbfrs.co.uk/careers/on-call-firefighter
URL:https://www.rbfrs.co.uk/community-events-and-meeting-rooms/have-a-go-event-hungerford-fire-station/
LOCATION:Hungerford Fire Station\, Church Street\, Hungerford\, West Berkshire\, RG17 0JG\, United Kingdom
GEO:51.4148311;-1.5187482
X-APPLE-STRUCTURED-LOCATION;VALUE=URI;X-ADDRESS=Hungerford Fire Station Church Street Hungerford West Berkshire RG17 0JG United Kingdom;X-APPLE-RADIUS=500;X-TITLE=Church Street:geo:-1.5187482,51.4148311
END:VEVENT
BEGIN:VEVENT
DTSTART;TZID=Europe/London:20180915T100000
DTEND;TZID=Europe/London:20180915T160000
DTSTAMP:20260421T091449
CREATED:20221011T115100Z
LAST-MODIFIED:20221011T115100Z
UID:10000060-1537005600-1537027200@www.rbfrs.co.uk
SUMMARY:Have a Go event - Hungerford
DESCRIPTION:Retained (On-Call) firefighters are an essential part of Royal Berkshire Fire and Rescue Service. Although these individuals are not based on fire stations\, they usually live or work within 6-8 minutes (as detailed below) of their local on-call fire station and are ready to respond to any emergency when required. \n\n\n\nThese events provide people with the opportunity to try out some of the tests and speak to current staff about the role.  \n\n\n\nThe events typically run from 10am until 4pm at the fire station.
URL:https://www.rbfrs.co.uk/community-events-and-meeting-rooms/have-a-go-event-hungerford/
LOCATION:Hungerford Fire Station\, Church Street\, Hungerford\, West Berkshire\, RG17 0JG\, United Kingdom
GEO:51.4148311;-1.5187482
X-APPLE-STRUCTURED-LOCATION;VALUE=URI;X-ADDRESS=Hungerford Fire Station Church Street Hungerford West Berkshire RG17 0JG United Kingdom;X-APPLE-RADIUS=500;X-TITLE=Church Street:geo:-1.5187482,51.4148311
END:VEVENT
BEGIN:VEVENT
DTSTART;TZID=Europe/London:20180414T100000
DTEND;TZID=Europe/London:20180414T160000
DTSTAMP:20260421T091449
CREATED:20221011T112704Z
LAST-MODIFIED:20221011T112704Z
UID:10000047-1523700000-1523721600@www.rbfrs.co.uk
SUMMARY:Have a Go event
DESCRIPTION:Retained (On-Call) firefighters are an essential part of Royal Berkshire Fire and Rescue Service. Although these individuals are not based on fire stations\, they usually live or work within 6-8 minutes (as detailed below) of their local on-call fire station and are ready to respond to any emergency when required. \n\n\n\nThese events provide people with the opportunity to try out some of the tests and speak to current staff about the role.  \n\n\n\nThe events typically run from 10am until 4pm at the fire station. 
URL:https://www.rbfrs.co.uk/community-events-and-meeting-rooms/have-a-go-event-5/
LOCATION:Hungerford Fire Station\, Church Street\, Hungerford\, West Berkshire\, RG17 0JG\, United Kingdom
GEO:51.4148311;-1.5187482
X-APPLE-STRUCTURED-LOCATION;VALUE=URI;X-ADDRESS=Hungerford Fire Station Church Street Hungerford West Berkshire RG17 0JG United Kingdom;X-APPLE-RADIUS=500;X-TITLE=Church Street:geo:-1.5187482,51.4148311
END:VEVENT
END:VCALENDAR