BEGIN:VCALENDAR
VERSION:2.0
PRODID:-//Royal Berkshire Fire and Rescue Service - ECPv6.15.18//NONSGML v1.0//EN
CALSCALE:GREGORIAN
METHOD:PUBLISH
X-ORIGINAL-URL:https://www.rbfrs.co.uk
X-WR-CALDESC:Events for Royal Berkshire Fire and Rescue Service
REFRESH-INTERVAL;VALUE=DURATION:PT1H
X-Robots-Tag:noindex
X-PUBLISHED-TTL:PT1H
BEGIN:VTIMEZONE
TZID:Europe/London
BEGIN:DAYLIGHT
TZOFFSETFROM:+0000
TZOFFSETTO:+0100
TZNAME:BST
DTSTART:20240331T010000
END:DAYLIGHT
BEGIN:STANDARD
TZOFFSETFROM:+0100
TZOFFSETTO:+0000
TZNAME:GMT
DTSTART:20241027T010000
END:STANDARD
BEGIN:DAYLIGHT
TZOFFSETFROM:+0000
TZOFFSETTO:+0100
TZNAME:BST
DTSTART:20250330T010000
END:DAYLIGHT
BEGIN:STANDARD
TZOFFSETFROM:+0100
TZOFFSETTO:+0000
TZNAME:GMT
DTSTART:20251026T010000
END:STANDARD
BEGIN:DAYLIGHT
TZOFFSETFROM:+0000
TZOFFSETTO:+0100
TZNAME:BST
DTSTART:20260329T010000
END:DAYLIGHT
BEGIN:STANDARD
TZOFFSETFROM:+0100
TZOFFSETTO:+0000
TZNAME:GMT
DTSTART:20261025T010000
END:STANDARD
END:VTIMEZONE
BEGIN:VEVENT
DTSTART;TZID=Europe/London:20251130T103000
DTEND;TZID=Europe/London:20251130T173000
DTSTAMP:20260425T130926
CREATED:20250923T110053Z
LAST-MODIFIED:20251114T121307Z
UID:10000300-1764498600-1764523800@www.rbfrs.co.uk
SUMMARY:Wokingham Winter Carnival
DESCRIPTION:On Sunday\, 30 November\, our Green Watch crew from Wokingham Fire Station will be attending the Wokingham Winter Carnival\, organised by the Wokingham Lions Club. \n\n\n\nPop along to Wokingham Town Centre\, between 10:30am and 5:30pm\, to meet the firefighters\, learn some vital festive fire safety advice\, and begin celebrating the festive season! \n\n\n\nFor more information about the Wokingham Winter Carnival\, see the event page on Facebook.
URL:https://www.rbfrs.co.uk/community-events-and-meeting-rooms/wokingham-winter-carnival/
LOCATION:Market Place\, Wokingham\, Market Place\, Wokingham\, RG40 1AS
ATTACH;FMTTYPE=image/jpeg:https://www.rbfrs.co.uk/app/uploads/2025/09/Wokingham-Winter-Carnival.jpg
END:VEVENT
END:VCALENDAR